BEGIN:VCALENDAR
VERSION:2.0
PRODID:-//eventon.com NONSGML v1.0//EN
BEGIN:VEVENT
UID:69e89233d1f0d
DTSTAMP:20260422T171739
DTSTART:20200305T223000Z
DTEND:20200308T050000Z
LOCATION:
SUMMARY:Trail Running and Wellness Retreat with the Green Race
DESCRIPTION: Trail Running and Wellness Retreat with the Green Race
END:VEVENT
END:VCALENDAR